BEGIN:VCALENDAR
VERSION:2.0
PRODID:-//Gratis-in-Berlin//NONSGML kigkonsult.se iCalcreator 2.14//
METHOD:PUBLISH
X-WR-CALNAME:Gratis-in-Berlin Tip Kalender
X-WR-CALDESC:Erhalte Gratis-in-Berlin Tips in deinem Kalender
BEGIN:VEVENT
UID:20260423T160614UTC-6530VGmnID@Gratis-in-Berlin
DTSTAMP:20260423T160614Z
DESCRIPTION:So schon kann Volkerfreundschaft sich im Sande verlaufen: Bei d
 er 8. Strandvolkerball-Weltermeisterschaft am Oststrand gibt es bei jeder 
 Partie nicht nur Sport auf Weltklasse-Niveau. Zum Programm gehoren auch fa
 ntasievolle Sportbekleidung und zu den jeweiligen Volkern passende Schlach
 tgesange und kulinarische Kostlichkeiten. Wenn sich Schwaben mit Fischkopf
 en oder blonde Schwedinnen mit zuckerbehüteten Brasilianern messen. Eintritt an
  allen Tagen frei. \n\nWeitere tolle kostenlose Festivals und Outdoor-Even
 ts über Link 2 oder rechts in den Kategorien.\n\nViel Spass wünscht Gratis-in-Berlin
 \n\nLink zum Tip: \nZu den Gratis-in-Berlin Angeboten: http://www.gratis-i
 n-berlin.de\n
DTSTART;VALUE=DATE:20100729
DTEND;VALUE=DATE:20100802
SUMMARY:Strand-Volkerball-WM 2010 am Oststrand
END:VEVENT
END:VCALENDAR
