BEGIN:VCALENDAR
VERSION:2.0
PRODID:-//Gratis-in-Berlin//NONSGML kigkonsult.se iCalcreator 2.14//
METHOD:PUBLISH
X-WR-CALNAME:Gratis-in-Berlin Tip Kalender
X-WR-CALDESC:Erhalte Gratis-in-Berlin Tips in deinem Kalender
BEGIN:VEVENT
UID:20260423T160808UTC-4099vut3Fl@Gratis-in-Berlin
DTSTAMP:20260423T160808Z
DESCRIPTION:Im Sommer jeden ersten Dienstag ab 20 Uhr auf abgesperrten Stra
 ßen durch Berlin skaten. Und neben dem Spaß noch für die Rechte der Skater einset
 zen. \nTermine und Infos auf der Website\n\nViel Spass wünscht Gratis-in-Berlin
 \n\nLink zum Tip: \nZu den Gratis-in-Berlin Angeboten: http://www.gratis-i
 n-berlin.de\n
DTSTART;VALUE=DATE:20100304
DTEND;VALUE=DATE:20100908
SUMMARY:Berlin Parade Skatenight durch Berlin (bis 7.9.)
END:VEVENT
END:VCALENDAR
