BEGIN:VCALENDAR
VERSION:2.0
PRODID:-//Gratis-in-Berlin//NONSGML kigkonsult.se iCalcreator 2.14//
METHOD:PUBLISH
X-WR-CALNAME:Gratis-in-Berlin Tip Kalender
X-WR-CALDESC:Erhalte Gratis-in-Berlin Tips in deinem Kalender
BEGIN:VEVENT
UID:20260425T134217UTC-4329u8TV5V@Gratis-in-Berlin
DTSTAMP:20260425T134217Z
DESCRIPTION:Das Snooker Center Berlin übertragt alle WM-Spiele auf Großbildleinwa
 nd.  Es gibt Platz für mind. 100 Personen. Jeder der im Fan-Outfit (Trikot\, ge
 schminkt\, Fahne etc) erscheint\, erhalt bei einem Tor seiner Mannschaft e
 inen Schnaps aufs Haus. Bei gutem Wetter wird bei ausgewahlten Spielen geg
 rillt. Wer die Wartezeit zwischen den Spielen verkürzen will \, kann gerne Snoo
 ker\, Tischtennis und Billard spielen\n\nViel Spass wünscht Gratis-in-Berlin\n
 \nLink zum Tip: \nZu den Gratis-in-Berlin Angeboten: http://www.gratis-in-
 berlin.de\n
DTSTART;VALUE=DATE:20120606
DTEND;VALUE=DATE:20120607
SUMMARY:Public Viewing im Snooker Center Berlin
END:VEVENT
END:VCALENDAR
