BEGIN:VCALENDAR
VERSION:2.0
PRODID:-//Gratis-in-Berlin//NONSGML kigkonsult.se iCalcreator 2.14//
METHOD:PUBLISH
X-WR-CALNAME:Gratis-in-Berlin Tip Kalender
X-WR-CALDESC:Erhalte Gratis-in-Berlin Tips in deinem Kalender
BEGIN:VEVENT
UID:20260423T161140UTC-3397PC50KV@Gratis-in-Berlin
DTSTAMP:20260423T161140Z
DESCRIPTION:Die Veloform Media GmbH prasentiert am 21. August 2010 im Olymp
 iapark Berlin (Olympiastadion) die BERLINER BANK Velotaxi WM 2010. \n\nBei
  der BERLINER BANK Velotaxi WM 2010 werden Velotaxi-Fahrer aus 40 Landern 
 im Olympiapark Berlin in verschiedenen Disziplinen gegeneinander antreten.
  Bei diesem außergewohnlichen Event sind Schnelligkeit\, Geschick und Ausda
 uer gefragt. Vor allem aber auch Erfahrung im Umgang mit dem umweltfreundl
 ichen und innovativen Fahrradtaxi -made in Berlin'\, welches seinen weltwe
 iten Expansionskurs 1997 von Berlin aus begann\n\nViel Spass wünscht Gratis-in-
 Berlin\n\nLink zum Tip: https://www.gratis-in-berlin.de/gratis-in-berlin/i
 tem/2002759-velotaxi-wm-2010\nZu den Gratis-in-Berlin Angeboten: http://ww
 w.gratis-in-berlin.de\n
DTSTART;VALUE=DATE:20100821
DTEND;VALUE=DATE:20100822
SUMMARY:Velotaxi WM 2010 
END:VEVENT
END:VCALENDAR
