BEGIN:VCALENDAR
VERSION:2.0
PRODID:-//Gratis-in-Berlin//NONSGML kigkonsult.se iCalcreator 2.14//
METHOD:PUBLISH
X-WR-CALNAME:Gratis-in-Berlin Tip Kalender
X-WR-CALDESC:Erhalte Gratis-in-Berlin Tips in deinem Kalender
BEGIN:VEVENT
UID:20260423T161150UTC-3491N6SKhX@Gratis-in-Berlin
DTSTAMP:20260423T161150Z
DESCRIPTION:Nach der erfolgreichen Premiere im letzten Jahr findet am 15. A
 ugust 2010 ab 10.00 Uhr der 2. Müggelsee Aquathlon statt.\n\nAuch Besucher sind
  herzlich willkommen. Sie konnen das Wettkampfgeschehen bei Snacks und kühlen G
 etranken vom Biergarten der 'Müggelsee Terrassen' aus verfolgen und sich von Mu
 sik und Moderation unterhalten lassen.\n\n\nViel Spass wünscht Gratis-in-Berlin
 \n\nLink zum Tip: https://www.gratis-in-berlin.de/gratis-in-berlin/item/20
 02760-2-mueggelsee-aquathlon\nZu den Gratis-in-Berlin Angeboten: http://ww
 w.gratis-in-berlin.de\n
DTSTART;VALUE=DATE:20100815
DTEND;VALUE=DATE:20100816
SUMMARY:2. Müggelsee Aquathlon
END:VEVENT
END:VCALENDAR
