BEGIN:VCALENDAR
VERSION:2.0
PRODID:-//Gratis-in-Berlin//NONSGML kigkonsult.se iCalcreator 2.14//
METHOD:PUBLISH
X-WR-CALNAME:Gratis-in-Berlin Tip Kalender
X-WR-CALDESC:Erhalte Gratis-in-Berlin Tips in deinem Kalender
BEGIN:VEVENT
UID:20260423T160725UTC-9076WG6l7J@Gratis-in-Berlin
DTSTAMP:20260423T160725Z
DESCRIPTION:Einladung zum Mitwandern: Geführte Wanderung im Tempelhofer Park. Ei
 nzelheiten siehe Berlin.de\, Sport - Veranstaltungen in den Bezirken. Ab H
 aupteingang zum Park\, Tempelhofer Damm um 9:30 Uhr.\n\nViel Spass wünscht Grat
 is-in-Berlin\n\nLink zum Tip: \nZu den Gratis-in-Berlin Angeboten: http://
 www.gratis-in-berlin.de\n
DTSTART;VALUE=DATE:20100828
DTEND;VALUE=DATE:20100829
SUMMARY:Tempelhofer Park - eine geführte Wanderung
END:VEVENT
END:VCALENDAR
