BEGIN:VCALENDAR
VERSION:2.0
PRODID:-//Gratis-in-Berlin//NONSGML kigkonsult.se iCalcreator 2.14//
METHOD:PUBLISH
X-WR-CALNAME:Gratis-in-Berlin Tip Kalender
X-WR-CALDESC:Erhalte Gratis-in-Berlin Tips in deinem Kalender
BEGIN:VEVENT
UID:20260423T160806UTC-9107SnbO4A@Gratis-in-Berlin
DTSTAMP:20260423T160806Z
DESCRIPTION:In Berlin gibt es auch immer wieder rustikal-martialische Sport
 darbietungen wie aus anderen Zeiten zu sehen. Die Highland Games oder die 
 Deutsche Jugger-Meisterschaft. Letzerte ist bei freiem Eintritt im Ludwig-
 Jahn-Sportpark Prenzlauer Berg zu bewundern. Jugger ist eine Mischung aus 
 American Football und Gladiatorenkampfen.\n\nViel Spass wünscht Gratis-in-Berli
 n\n\nLink zum Tip: \nZu den Gratis-in-Berlin Angeboten: http://www.gratis-
 in-berlin.de\n
DTSTART;VALUE=DATE:20100910
DTEND;VALUE=DATE:20100913
SUMMARY:Sport kurios: Deutsche Jugger-Meisterschaft 2010 = American Footbal
 l meets Gladiators
END:VEVENT
END:VCALENDAR
