BEGIN:VCALENDAR
VERSION:2.0
PRODID:-//Gratis-in-Berlin//NONSGML kigkonsult.se iCalcreator 2.14//
METHOD:PUBLISH
X-WR-CALNAME:Gratis-in-Berlin Tip Kalender
X-WR-CALDESC:Erhalte Gratis-in-Berlin Tips in deinem Kalender
BEGIN:VEVENT
UID:20260425T115727UTC-7796RRTghR@Gratis-in-Berlin
DTSTAMP:20260425T115727Z
DESCRIPTION:Als Einstimmung auf das Action Sport-Event -Telekom Extreme Pla
 ygrounds- steht der -4010 Telekom Shop in Mitte- ganz im Zeichen des Actio
 n Sports. Am 17. November werden im 4010 die beiden Action Sport Filme -Ka
 leidoscope- und -Bedroom Or Dancefloor- gezeigt. Zudem wird der Profi-Snow
 boarder Alex Tank\, einer der Hauptdarsteller aus dem Film -Kaleidoscope-\
 , an diesem Abend für eine Autogrammstunde vor Ort sein.\n\n-Kaleidoscope-(Isen
 seven\, München) ist ein Snowboard-Film von Alex Schiller\, Tom Elliott und Vin
 cent Urban. Gedreht wurde wahrend der letzten Saison u.a. in den Alpen\, A
 merika\, Kanada\, Italien und Schweden. In den Hauptrollen glanzen 17 der 
 besten europaischen Fahrer\, u.a. Alex Tank\, Christophe Schmidt\, Shayne 
 Pospisil\, Fredrik Evensen\, Tom Klocker oder Ethan Morgan. Der Film zeich
 net sich durch gelungene Schnitte\, viel Einblick in die Personlichkeit de
 r Fahrer und besondere Kameratechnik aus. \n(Laufzeit circa 45 Minuten).\n
 \nDer Wakeboard-Film -Bedroom Or Dancefloor- (Orange Cut Produtions\, Hamb
 urg) zeigt einige der zurzeit besten Cable-Wakeboarder wie Frederic von Os
 ten\, Lior Sofer\, Steffen Vollert oder Rene Konrad in Action. Schauplatze
  wie Florida\, die Türkei oder Mauritius bilden den Hintergrund für tollkühne Stunts der 
 Protagonisten auf Wakeboards\, Kiteboards oder Wakeskates. (Laufzeit circa
  45 Minuten).\n\nBei den Telekom Extreme Playgrounds am 20. November 2011 
 werden die weltbesten Skateboarder und BMX-Profis bereits zum fünften Mal das B
 erliner Velodrom besetzen. Beim einzigen World Cup Skateboarding Event in 
 Deutschland kampfen sie um den begehrten Titel auf dem Street Parcours und
  um ein sattes Preisgeld.\n\nFilme und Autogrammstunde im -4010 Telekom Sh
 op in Mitte-: \n-Kaleidoscope- (Isenseven)\, -Bedroom Or Dancefloor- (Oran
 geCut)\nDonnerstag\, 17. November 2011\n20 - 22 Uhr\n4010 Telekom Shop in 
 Mitte\, Alte Schonhauser Str. 31\, Berlin\nEintritt frei\n\n \n\nViel Spas
 s wünscht Gratis-in-Berlin\n\nLink zum Tip: \nZu den Gratis-in-Berlin Angeboten
 : http://www.gratis-in-berlin.de\n
DTSTART;VALUE=DATE:20111117
DTEND;VALUE=DATE:20111118
SUMMARY:Autogrammstunde & Action Sport Filme im 4010
END:VEVENT
END:VCALENDAR
