BEGIN:VCALENDAR
VERSION:2.0
PRODID:-//Gratis-in-Berlin//NONSGML kigkonsult.se iCalcreator 2.14//
METHOD:PUBLISH
X-WR-CALNAME:Gratis-in-Berlin Tip Kalender
X-WR-CALDESC:Erhalte Gratis-in-Berlin Tips in deinem Kalender
BEGIN:VEVENT
UID:20260425T120053UTC-1470RmJ2hM@Gratis-in-Berlin
DTSTAMP:20260425T120053Z
DESCRIPTION: Ein Selbstverteidigungs- & Selbstbehauptungsprogramm \nfür Kinder\n
 -Kinder haben mittlerweile fast taglich mit Gewalt zu tun: Von \nHanseleie
 n im Klassenzimmer über Prügeleien auf dem Schulhof\, \nAbziehdelikten auf dem Heimw
 eg bis hin zu sexuellen Ubergriffen \n- die Palette an Gewalttaten ist gro
 ß.-\nDamit unsere Kinder heute und in Zukunft gefahrlos und frei \naufwachs
 en konnen\, muss die Vermeidung von Gewalt zu einem \nzentralen Thema der 
 Erziehung werden.\nDurch ein gesteigertes Selbstbewusstsein verlassen die 
 Kinder eine \nmogliche Opferrolle und erlangen mehr Sicherheit und Durchse
 t-\nzungsvermogen.\nWingTsun ist eine sinnvolle Freizeitbeschaftigung mit 
 viel Spaß und \neiner positiven Auswirkung auf die Gesundheit.\nWer sich se
 lbst verteidigen kann\, hat auch das Selbstbewusstsein \nund den Mut ander
 en beizustehen.\n\n\nViel Spass wünscht Gratis-in-Berlin\n\nLink zum Tip: \nZu 
 den Gratis-in-Berlin Angeboten: http://www.gratis-in-berlin.de\n
DTSTART;VALUE=DATE:20111119
DTEND;VALUE=DATE:20111120
SUMMARY:1 Monat  \,Wing Tsun KIDS Selbsverteidigung  GRATIS!
END:VEVENT
END:VCALENDAR
