BEGIN:VCALENDAR
VERSION:2.0
PRODID:-//Gratis-in-Berlin//NONSGML kigkonsult.se iCalcreator 2.14//
METHOD:PUBLISH
X-WR-CALNAME:Gratis-in-Berlin Tip Kalender
X-WR-CALDESC:Erhalte Gratis-in-Berlin Tips in deinem Kalender
BEGIN:VEVENT
UID:20260425T115159UTC-3149MAG0BH@Gratis-in-Berlin
DTSTAMP:20260425T115159Z
DESCRIPTION: WingTsun ist die erste ganzheitliche Selbstverteidigung und Se
 lbst-\nbehauptung für Frauen und Manner. Als erstes Konzept berück-\nsichtigt es dab
 ei die unterschiedlichen Bedürfnisse der weiblichen \nund mannlichen Kursteilne
 hmer.\n\n\nViel Spass wünscht Gratis-in-Berlin\n\nLink zum Tip: \nZu den Gratis
 -in-Berlin Angeboten: http://www.gratis-in-berlin.de\n
DTSTART;VALUE=DATE:20111120
DTEND;VALUE=DATE:20111121
SUMMARY:1 Monat  \,Wing Tsun\,Selbsverteidigung  GRATIS!
END:VEVENT
END:VCALENDAR
