BEGIN:VCALENDAR
VERSION:2.0
PRODID:-//Gratis-in-Berlin//NONSGML kigkonsult.se iCalcreator 2.14//
METHOD:PUBLISH
X-WR-CALNAME:Gratis-in-Berlin Tip Kalender
X-WR-CALDESC:Erhalte Gratis-in-Berlin Tips in deinem Kalender
BEGIN:VEVENT
UID:20260425T115138UTC-0952u2IFz3@Gratis-in-Berlin
DTSTAMP:20260425T115138Z
DESCRIPTION: Welch Schmach\, der Pokal ist weg\, also\, außer Haus. Wir hoff
 en auf Rückkehr und eine erneut siegreiche Barcrew. Ihr habt was dagegen? Dann 
 stellt euch!\n\nViel Spass wünscht Gratis-in-Berlin\n\nLink zum Tip: https://ww
 w.gratis-in-berlin.de/gratis-in-berlin/item/2005698-kickerturnier\nZu den 
 Gratis-in-Berlin Angeboten: http://www.gratis-in-berlin.de\n
DTSTART;VALUE=DATE:20111126
DTEND;VALUE=DATE:20111127
SUMMARY:Kickerturnier
END:VEVENT
END:VCALENDAR
