BEGIN:VCALENDAR
VERSION:2.0
PRODID:-//Gratis-in-Berlin//NONSGML kigkonsult.se iCalcreator 2.14//
METHOD:PUBLISH
X-WR-CALNAME:Gratis-in-Berlin Tip Kalender
X-WR-CALDESC:Erhalte Gratis-in-Berlin Tips in deinem Kalender
BEGIN:VEVENT
UID:20260425T115158UTC-81003LmS0W@Gratis-in-Berlin
DTSTAMP:20260425T115158Z
DESCRIPTION:Mit einer Eisflache von 300 qm wird das rbb Weihnachtsschiff se
 chs Tage zu einer einzigartigen schwimmenden Eislaufbahn in Berlin und Bra
 ndenburg. \n10 bis 22 Uhr.\nEintrtitt frei\, Schlittschuhverlei vor Ort eb
 enfalls kostenlos.\n\nVom 13. bis 14.12 in Berlin an der Jannowitzbrücke. Am 15
 . Dezember für einen Tag in Potsdam an der Langen Brücke und anschließend bis zum 18.
  Dezember wieder in Berlin.\n\nEin kleiner Weihnachtsmarkt sorgt für Speis und 
 Trank.\nAußerdem diverse rbb Live-Sendungen vom Weihnachtsschiff.\n\nQuelle
 /mehr Infos: Website\n\nViel Spass wünscht Gratis-in-Berlin\n\nLink zum Tip: \n
 Zu den Gratis-in-Berlin Angeboten: http://www.gratis-in-berlin.de\n
DTSTART;VALUE=DATE:20111213
DTEND;VALUE=DATE:20111219
SUMMARY:Weihnachtsschiff mit schwimmender Eisbahn
END:VEVENT
END:VCALENDAR
