BEGIN:VCALENDAR
VERSION:2.0
PRODID:-//Gratis-in-Berlin//NONSGML kigkonsult.se iCalcreator 2.14//
METHOD:PUBLISH
X-WR-CALNAME:Gratis-in-Berlin Tip Kalender
X-WR-CALDESC:Erhalte Gratis-in-Berlin Tips in deinem Kalender
BEGIN:VEVENT
UID:20260425T115441UTC-8157ECTtgz@Gratis-in-Berlin
DTSTAMP:20260425T115441Z
DESCRIPTION:Sabine Lisicki spielt gegen Julia Gorges. am Sonntag 29.01.2012
  ab 10 Uhr in der Havellandhalle. Mit Autogratmmstunde\, Messe\, Catering\
 , etc.\n\nEintritt frei!\n\nOffentliche Verkehrsmittel.\nBus 639 Rathaus S
 pandau - Seeburg Havellandhalle - Potsdam\nBus 604 Falkensee - Seeburg - P
 otsdam\n\n\n\n\nViel Spass wünscht Gratis-in-Berlin\n\nLink zum Tip: \nZu den G
 ratis-in-Berlin Angeboten: http://www.gratis-in-berlin.de\n
DTSTART;VALUE=DATE:20120129
DTEND;VALUE=DATE:20120130
SUMMARY:Tennis Classics Havellandhalle: Sabine Lisicki - Julia Gorges
END:VEVENT
END:VCALENDAR
