BEGIN:VCALENDAR
VERSION:2.0
PRODID:-//Gratis-in-Berlin//NONSGML kigkonsult.se iCalcreator 2.14//
METHOD:PUBLISH
X-WR-CALNAME:Gratis-in-Berlin Tip Kalender
X-WR-CALDESC:Erhalte Gratis-in-Berlin Tips in deinem Kalender
BEGIN:VEVENT
UID:20260425T115201UTC-43929SUiT5@Gratis-in-Berlin
DTSTAMP:20260425T115201Z
DESCRIPTION:Wir freuen uns\, das SB Schoneberg ab 20.01.2012 wieder zur Ver
 fügung stellen zu konnen und laden Sie zur Eroffnung von 14:00 - 21:00 Uhr zum 
 kostenlosen Schwimmen ein. \n\n(Einlassschluss 20:00 Uhr ) \n\nRegulare Of
 fnung ab 21.01.2012. \n\n\nViel Spass wünscht Gratis-in-Berlin\n\nLink zum Tip:
  https://www.gratis-in-berlin.de/gratis-in-berlin/item/2005992-wiedereroff
 nung-stadtbad-schoneberg\nZu den Gratis-in-Berlin Angeboten: http://www.gr
 atis-in-berlin.de\n
DTSTART;VALUE=DATE:20120120
DTEND;VALUE=DATE:20120121
SUMMARY:Wiedereroffnung Stadtbad Schoneberg 
END:VEVENT
END:VCALENDAR
