BEGIN:VCALENDAR
VERSION:2.0
PRODID:-//Gratis-in-Berlin//NONSGML kigkonsult.se iCalcreator 2.14//
METHOD:PUBLISH
X-WR-CALNAME:Gratis-in-Berlin Tip Kalender
X-WR-CALDESC:Erhalte Gratis-in-Berlin Tips in deinem Kalender
BEGIN:VEVENT
UID:20260425T115546UTC-0901mkDJ46@Gratis-in-Berlin
DTSTAMP:20260425T115546Z
DESCRIPTION:public viewing football und andere Events im Rizz\, Berlin Kreu
 zberg.\nBolton Wanderers - FC Arsenal um 20.50 Uhr \nhttp://www.cafe-rizz.
 de/kalender.asp\n\nViel Spass wünscht Gratis-in-Berlin\n\nLink zum Tip: \nZu de
 n Gratis-in-Berlin Angeboten: http://www.gratis-in-berlin.de\n
DTSTART;VALUE=DATE:20120201
DTEND;VALUE=DATE:20120202
SUMMARY:Bolton Wanderers - FC Arsenal im Rizz\, Kreuzberg
END:VEVENT
END:VCALENDAR
