BEGIN:VCALENDAR
VERSION:2.0
PRODID:-//Gratis-in-Berlin//NONSGML kigkonsult.se iCalcreator 2.14//
METHOD:PUBLISH
X-WR-CALNAME:Gratis-in-Berlin Tip Kalender
X-WR-CALDESC:Erhalte Gratis-in-Berlin Tips in deinem Kalender
BEGIN:VEVENT
UID:20260425T134353UTC-4030EhM3cv@Gratis-in-Berlin
DTSTAMP:20260425T134353Z
DESCRIPTION:Das Casting der ALBA Dancers 2012\npowerd by 98.8 KISS FM\n\n\n
 Wir suchen gemeinsam mit 98.8 KISS FM neue Tanzerinnen für die ALBA Dancers\, d
 as Danceteam der Albatrosse. Als Tanzerin bei den ALBA Dancers erwarten di
 ch:\n\nAuftritte vor bis zu 14.500 Zuschauern bei den Heimspielen von ALBA
  BERLIN in der o2 World\, Background Tanzperfomances für namhafte Künstler\, große Au
 ftritte für viele Topevents in und um Berlin\, Fotoshootings\, TV Auftritte\, u
 .v.m.!\n\nDas offene Vorrunden Casting findet statt am:\nSonntag\, 17. Jun
 i 2012 um 17:00 Uhr in der Max-Schmeling-Halle (Halle A/B)\n\nWichtiges vo
 rab:\n- wir suchen junge Frauen ab 18 Jahre\n- tanzerische Vorkenntnisse e
 rwünscht\n- du brauchst eine kurze Sporthose (Shorts oder Hotpants)\, ein engan
 liegendes Oberteil und Hallenturnschuhe\n- gern konnen Freunde zum Zuschau
 en und Unterstützen mitkommen\n\nAblauf für das offene Casting:\n- Registration und 
 Startnummernausgabe\, Fotos\n- gemeinsames Erwarmungs- und Strechingtraini
 ng mit Musik\n- erlernen eines neuen Timeouts für die kommende Saison\n- Vortan
 zen des erlernten Tanz in kleinen Gruppen vor einer Jury\n- Bekanntgabe de
 r Bootcamp Teilnehmer 2012/2013 für die Endausscheidung\n\nViel Spass wünscht Gratis
 -in-Berlin\n\nLink zum Tip: https://www.gratis-in-berlin.de/gratis-in-berl
 in/item/2006731-alba-dancers-casting\nZu den Gratis-in-Berlin Angeboten: h
 ttp://www.gratis-in-berlin.de\n
DTSTART;VALUE=DATE:20120617
DTEND;VALUE=DATE:20120618
SUMMARY:ALBA Dancers Casting
END:VEVENT
END:VCALENDAR
