BEGIN:VCALENDAR
VERSION:2.0
PRODID:-//Gratis-in-Berlin//NONSGML kigkonsult.se iCalcreator 2.14//
METHOD:PUBLISH
X-WR-CALNAME:Gratis-in-Berlin Tip Kalender
X-WR-CALDESC:Erhalte Gratis-in-Berlin Tips in deinem Kalender
BEGIN:VEVENT
UID:20260425T134033UTC-6813AGORub@Gratis-in-Berlin
DTSTAMP:20260425T134033Z
DESCRIPTION: Die 'Bleus' sind zurück! Kommt und unterstützt sie bei unserer Live-Uber
 tragung auf großer Leinwand des Spiels gegen England.\n\nPunkt 18 Uhr geht 
 es los!\n\nEintritt frei. Günstige Getranke.\n\n\nKontakt:\nClaire Anderson Web
 ster\nDorothAA&copy\;e Malfoy-NoA«l\nInfo-CafAA&copy\; Berlin-Paris\nDeutsc
 h-Franzosisches Jugendwerk\nMolkenmarkt 1 - 10179 Berlin-Mitte\nTel. : 030
  28 87 57 50 - cafeberlinparis@dfjw.org\n\nViel Spass wünscht Gratis-in-Berlin
 \n\nLink zum Tip: \nZu den Gratis-in-Berlin Angeboten: http://www.gratis-i
 n-berlin.de\n
DTSTART;VALUE=DATE:20120611
DTEND;VALUE=DATE:20120612
SUMMARY:EM 2012: Live-Ubertragung des Frankreich-England-Spiels - 18 Uhr
END:VEVENT
END:VCALENDAR
