BEGIN:VCALENDAR
VERSION:2.0
PRODID:-//Gratis-in-Berlin//NONSGML kigkonsult.se iCalcreator 2.14//
METHOD:PUBLISH
X-WR-CALNAME:Gratis-in-Berlin Tip Kalender
X-WR-CALDESC:Erhalte Gratis-in-Berlin Tips in deinem Kalender
BEGIN:VEVENT
UID:20260425T133959UTC-3555poASJR@Gratis-in-Berlin
DTSTAMP:20260425T133959Z
DESCRIPTION:6. Indoor-Fußballmeisterschaft der Berliner Theater\n\nHarte Bal
 le\, heiße Würstchen\, schnelles Ping Pong\, coole Drinks und mitreißende Livemus
 ik\n\nAb 12 Uhr auf der Großen Bühne der Volksbühne am Rosa-Luxemburg-Platz treten zu
 m sechsten Mal kampferisch enthusiastische Fußballteams verschiedener Berli
 ner Theater gegeneinander an. Es gilt\, einen Titel zu erkampfen beziehung
 sweise zu verteidigen: Den Titel der INDOOR-FUSSBALLMEISTERSCHAFT DER BERL
 INER THEATER 2012. Die Bühne wird zum Fußballplatz\, Alt und Jung kann sich am B
 all versuchen und Sir Henry kommentiert an der Orgel das entscheidende Tre
 ffen\, das die wahren Gotter auf den Brettern kront. \n\nTextquelle: Websi
 te\n\nViel Spass wünscht Gratis-in-Berlin\n\nLink zum Tip: \nZu den Gratis-in-B
 erlin Angeboten: http://www.gratis-in-berlin.de\n
DTSTART;VALUE=DATE:20120617
DTEND;VALUE=DATE:20120618
SUMMARY:Theaterfußball: Indoor-Fußballmeisterschaft der Berliner Theater
END:VEVENT
END:VCALENDAR
