BEGIN:VCALENDAR
VERSION:2.0
PRODID:-//Gratis-in-Berlin//NONSGML kigkonsult.se iCalcreator 2.14//
METHOD:PUBLISH
X-WR-CALNAME:Gratis-in-Berlin Tip Kalender
X-WR-CALDESC:Erhalte Gratis-in-Berlin Tips in deinem Kalender
BEGIN:VEVENT
UID:20260425T133228UTC-3090BE1rfr@Gratis-in-Berlin
DTSTAMP:20260425T133228Z
DESCRIPTION:Liebe Ruderkameradinnen und Ruderkameraden\,\n\nam 25.08.2012 m
 ochte sich der Landesruderverband im Rahmen der Aquarella Berlin 2012 mit 
 einer Lichtershow in Booten prasentieren.\n\nGeplant sind:\n- ACHTERRENNEN
 \n- RUDERN IN HISTORISCHER RUDERKLEIDUNG\n- BOOTETANZ\n\nWir suchen noch R
 uderinnen und Ruderer\, die bei dieser Veranstaltung mitwirken.\n\nBitte t
 eilt uns bis zum 31.07.2012 verbindlich mit\, ob ihr daran teilnehmen moch
 tet und ob ihr Boote\, Vierer\, Zweier oder Einer mit\, zur Verfügung stellt.\n
 \nNach der Veranstaltung ist ein gemütliches Ausklingen bei der RG Wiking gepla
 nt.\nHier kann man auch übernachten. Anmeldungen dafür bitte an\ngabriela.brahm@lrvb
 erlin.de.\n\nHangt den beiliegender Flyer in euren Bootshausern aus: http:
 //www.lrvberlin.de/index.php?option=com_content&view=section&layout=blog&i
 d=4&Itemid=91 und dann relativ weit runterscrollen.\n\nFür Rückfragen stehen wi
 r gern zur Verfügung.\n\nBitte meldet euch unter praesentation@lrvberlin.de an\
 , damit wir planen konnen.\n\nVielen Dank!\n\nViel Spass wünscht Gratis-in-Berl
 in\n\nLink zum Tip: \nZu den Gratis-in-Berlin Angeboten: http://www.gratis
 -in-berlin.de\n
DTSTART;VALUE=DATE:20120825
DTEND;VALUE=DATE:20120826
SUMMARY:Aquarella Berlin - Lichtershow in Ruderbooten
END:VEVENT
END:VCALENDAR
