BEGIN:VCALENDAR
VERSION:2.0
PRODID:-//Gratis-in-Berlin//NONSGML kigkonsult.se iCalcreator 2.14//
METHOD:PUBLISH
X-WR-CALNAME:Gratis-in-Berlin Tip Kalender
X-WR-CALDESC:Erhalte Gratis-in-Berlin Tips in deinem Kalender
BEGIN:VEVENT
UID:20260425T134227UTC-6258iS1Tz9@Gratis-in-Berlin
DTSTAMP:20260425T134227Z
DESCRIPTION:Das Olympia-Reiterstadion Berlin gilt als eine der schonsten Pf
 erdesport-Arenen in Europa.\nAn dem historischen Ort (ursprünglich für Olympische Sp
 iele 36 gebaut) findet ein Dressur- und Springturnier mit reitsportlichen 
 Highlights statt: 47 Wettbewerbe in Dressur und Springen stehen auf dem Pr
 ogramm. Von der Einsteigerklasse bis zum Spitzensport mit internationaler 
 Beteiligung ist alles in Berlin vertreten. Bundeschampionatsqualifikatione
 n Dressur und Springen\, Derby-Parcours und S***-Springen\, ...\nEintritt 
 frei.\n\nViel Spass wünscht Gratis-in-Berlin\n\nLink zum Tip: \nZu den Gratis-i
 n-Berlin Angeboten: http://www.gratis-in-berlin.de\n
DTSTART;VALUE=DATE:20120621
DTEND;VALUE=DATE:20120625
SUMMARY:Riding Berlin: Dressur- und Springturnier im Olympia-Reiterstadion
END:VEVENT
END:VCALENDAR
