BEGIN:VCALENDAR
VERSION:2.0
PRODID:-//Gratis-in-Berlin//NONSGML kigkonsult.se iCalcreator 2.14//
METHOD:PUBLISH
X-WR-CALNAME:Gratis-in-Berlin Tip Kalender
X-WR-CALDESC:Erhalte Gratis-in-Berlin Tips in deinem Kalender
BEGIN:VEVENT
UID:20260425T134314UTC-5854vuhzHS@Gratis-in-Berlin
DTSTAMP:20260425T134314Z
DESCRIPTION: Am Sonntag\, 5. August 2012  wird das 56. Rollbergrennen der N
 RVg. Luisenstadt in Berlin-Neukolln auf Kopfsteinpflasterfreier Strecke\, 
 wie bereits 2011\, über  die Hermannstraße - Karl-Marx-Straße-Flughafenstraße ausg
 etragen. \n\nAuch in diesem Jahr werden mehrere hundert Fahrerinnen und Fa
 hrer aus allen Altersklassen erwartet. \n\nIn der Vergangenheit brachte da
 s Rennen schon viele prominente Sieger hervor\, wie zum Beispiel der fünffache 
 Sieger Burkhard Ebert\, der dreimal erfolgreiche Mike Kluge\, Olympiasiege
 r Peter Vonhof oder auch Profis wie Erik Zabel\, Ralf Grabsch und Tour de 
 France-Etappensieger André Greipel.\n\n\nMeldungen konnen noch bis zum 22.07
 .2012 über das Meldesystem von rad-net getatigt werden.\n\nNatürlich freuen sich die
  Rennsportler auch über Deine Unterstützung an der Rennstrecke.\n\n\n56. Rollbergren
 nen\, 5. August 2012\, NRVg. Luisenstadt\n\nViel Spass wünscht Gratis-in-Berlin
 \n\nLink zum Tip: \nZu den Gratis-in-Berlin Angeboten: http://www.gratis-i
 n-berlin.de\n
DTSTART;VALUE=DATE:20120805
DTEND;VALUE=DATE:20120806
SUMMARY:56. Rollbergrennen der NRVg. Luisenstadt 'Rund um die Neukollner Ar
 kaden'
END:VEVENT
END:VCALENDAR
