BEGIN:VCALENDAR
VERSION:2.0
PRODID:-//Gratis-in-Berlin//NONSGML kigkonsult.se iCalcreator 2.14//
METHOD:PUBLISH
X-WR-CALNAME:Gratis-in-Berlin Tip Kalender
X-WR-CALDESC:Erhalte Gratis-in-Berlin Tips in deinem Kalender
BEGIN:VEVENT
UID:20260425T134217UTC-6488rdv71O@Gratis-in-Berlin
DTSTAMP:20260425T134217Z
DESCRIPTION:Auf dem Washingtonplatz am Hauptbahnhof wird die Swim City aufg
 ebaut mit großem mobilen Schwimmbecken\, Wassersport-Events\, Wasserspielga
 rten für Kids und Family mit Planschbecken\, Minigolfbahnen\, XXL-Spiele für Groß und
  Klein\, sportliches Rahmenprogramm\, Chill-Out-Area\, viele Liegestühle und Pu
 blic Viewing Olympia London 2012.\n\nOffnungszeiten:\n- Donnerstag\, 02.08
 . ab 15 Uhr\n- Freitag\, 03.08. ab 10 Uhr\n- Samstag\, 04.08. ab 10 Uhr\nA
 n allen drei Tagen bleibt die Swimcity bis mindestens 22 Uhr geoffnet \n\n
 \nProgramm:\n\nDonnerstag\, 02.08.2012 \n15:00 - 17:00 	Eroffnungsprogramm
 \n15:00 	Bildershow SWIMCITY Hannover 2012\n15:10 	Begrüßung der Ehrengaste\n15:2
 0 	Grußworte zur Eroffnung\n15:30 	Show Wasserrettung\n15:45 	Interview Sportp
 rominenz\n16:00 - 17:00 	Stand Up Paddle für jedermann\n17:00 	Freies Schwimmen -
  Badespaß für Jedermann\n20:30 	Public Viewing olympische Schwimmwettbewerbe\n	\nF
 reitag\, 03.08.2012 \n10:00 	Freies Schwimmen - Badespaß für Jedermann\n10:30 	Pub
 lic Viewing olympische Schwimmwettbewerbe\n12:00 	Arena Swim-Academy\n13:45
  	Stand Up Paddle für jedermann\n14:15 	Rettungsschwimmen\n14:45 	Finswimming\n15:
 15 	Interview SWIMCITY-Sponsoren\n15:30 	Schwimmen - Leistungssport\n16:15 -
  17:15 	Arena Swim-Academy\n16:00 	Autogrammstunde Dorothea Brandt\n17:15 	Se
 epferdchen - Kinderschwimmen\n17:45 	Triathlon - Demonstrationswettkampf\n1
 8:30 	Stand Up Paddle für jedermann\n19:00 	Interview SWIMCITY-Sponsoren\n19:15 -
  22:00 	Baden / Schwimmen für jedermann\n20:30 	Public Viewing olympische Schwimm
 wettbewerbe\n	\nSamstag\, 04.08.2012 \n10:00 	Stand Up Paddle\n10:30 	Public 
 Viewing olympische Schwimmwettbewerbe\n12:00 	Arena Swim-Academy\n13:45 	Aqu
 agymnastik\n14:15 	Seepferdchen - Kinderschwimmen\n14:45 	Finswimming\n15:15
  	Interview SWIMCITY-Sponsoren\n15:45 - 16:15 	Schwimmen - Leistungssport\n1
 6:00 	Autogrammstunde Ditte Kotzian\n16:15 	Arena Swim-Academy\n17:15 	Staffe
 lwettbewerb (Schwimmlebensstaffel)\n17:45 	Rettungsschwimmen\n18:15 	Triathl
 on - Demonstrationswettkampf\n18:45 	Aquagymnastik\n19:15 	Interview SWIMCIT
 Y-Sponsoren\n19:30 - 22:00 	Baden / Schwimmen für jedermann\n20:30 	Public Viewin
 g olympische Schwimmwettbewerbe\n\nQuelle und mehr Infos zum Projekt siehe
  Website\n\nViel Spass wünscht Gratis-in-Berlin\n\nLink zum Tip: \nZu den Grati
 s-in-Berlin Angeboten: http://www.gratis-in-berlin.de\n
DTSTART;VALUE=DATE:20120802
DTEND;VALUE=DATE:20120805
SUMMARY:Swimcity am Hauptbahnhof mit Schwimmbad\, Public Viewing Olympia\, 
 Sportpgramm\, Feuershow\, ...
END:VEVENT
END:VCALENDAR
