BEGIN:VCALENDAR
VERSION:2.0
PRODID:-//Gratis-in-Berlin//NONSGML kigkonsult.se iCalcreator 2.14//
METHOD:PUBLISH
X-WR-CALNAME:Gratis-in-Berlin Tip Kalender
X-WR-CALDESC:Erhalte Gratis-in-Berlin Tips in deinem Kalender
BEGIN:VEVENT
UID:20260425T134059UTC-8305ezESEu@Gratis-in-Berlin
DTSTAMP:20260425T134059Z
DESCRIPTION: Superflavor German SUP Challenge 2012 - Nightflight SUP Sprint
  Berlin\nWakeboardanlage Berlin Grossbeeren\, Samstag 11.08.2012\n \nEs is
 t wieder soweit. Das in Europa einmalige Highlight der German SUP Challeng
 e ist zurück. Mit dem Nightflight SUP Sprint holt superflavor das NASCAR Prinzi
 p aufs Wasser. Face to Face mit deinem Gegner\, im KO-System in der 800met
 er Ringarena von Grossbeeren bei Berlin. Und das ganze mitten in der Nacht
 \, beleuchtet durch eine 50.000 Watt Flutlichtanlage. Stand Up Paddling Ex
 treme!\n \nDas Rennen\nDer Nightflight SUP Sprint ist ein Kurzstrecken Sta
 nd Up Paddle Rennen für Jedermann. Die Rundenlange betragt 800m. Der Nightfligh
 t SUP Sprint wird bis zum Finale als Matchrace ausgetragen. Zugelassen sin
 d alle Stock Boards bis 12.6 in der Fitness Class. In der Race Class wird 
 in den Bordlangen 12.6 und 14.0 gestartet. Die Sprintdistanz betragt hier 
 2400m. Race Boards werden nicht gestellt und sind zum Event mit zu bringen
 . Stand Up Paddle Boards für die Fitness Class werden vom Veranstalter der Germ
 an SUP Challenge zur Verfügung gestellt. Es konnen aber gerne eigene Boards ver
 wendet werden.\n \nZeitplan Stand Up Paddle Race\nSamstag 11.08.2012\n17:0
 0 ? 20:00       SUP Test und Training auf dem Badesee\n19:30              
      Riders Meeting\n21:00 ? 23:30       Nightflight SUP Sprint\n23:50    
                Siegerehrung\n \nRahmenprogramm:\nDas Rennen beginnt mit Ei
 nsetzen der Dammerung um 21.00 Uhr. Für alle aktiven Race-Teilnehmer und Zuscha
 uer besteht bereits den ganzen Tag über ab 17:00 die Moglichkeit\, kostenlos da
 s Stand Up Paddeln selbst zu erleben. Für die ersten Stehversuche auf dem Wasse
 r steht ein 1200 mA² grosser Naturbadesee zur Verfügung. Ausserdem kann die Beac
 hvolleyball Anlage genutzt werden um sich aktiv der Sonne zu stellen.\n \n
 Anreise: Wakeboard Grossbeeren Bahnhofstraße 49\,14979 Großbeeren\n \nAnmeld
 ungen zu den SUP Races sind noch bis zum Ridersmeeting am Samstag 11.08. u
 m 19:30 moglich oder vorab auf der Eventseite der German SUP Challenge.\n
 \nInformationen: http://www.german-sup-challenge.com\n\nViel Spass wünscht Grat
 is-in-Berlin\n\nLink zum Tip: \nZu den Gratis-in-Berlin Angeboten: http://
 www.gratis-in-berlin.de\n
DTSTART;VALUE=DATE:20120811
DTEND;VALUE=DATE:20120812
SUMMARY:Stand Up Paddling in Berlin - German SUP Challenge Nightflight
END:VEVENT
END:VCALENDAR
