BEGIN:VCALENDAR
VERSION:2.0
PRODID:-//Gratis-in-Berlin//NONSGML kigkonsult.se iCalcreator 2.14//
METHOD:PUBLISH
X-WR-CALNAME:Gratis-in-Berlin Tip Kalender
X-WR-CALDESC:Erhalte Gratis-in-Berlin Tips in deinem Kalender
BEGIN:VEVENT
UID:20260425T134033UTC-8993kwZze3@Gratis-in-Berlin
DTSTAMP:20260425T134033Z
DESCRIPTION:Der innovative Vierlanderkampf -zBerlin fliegt!- von 13 Uhr bis
  ca. ca. 15 Uhr 30 erlebt im zweiten Jahr seiner Auflage am kommenden Sonn
 tag ein Weltklasse-Teilnehmerfeld. Zwolf Topathleten aus Deutschland\, Rus
 sland\, Frankreich und den USA treten in einer Team-Challenge mitten auf d
 em Pariser Platz gegeneinander an\, und das unmittelbar nach den Olympisch
 en Spielen.\n\nInsgesamt elf Teilnehmer von -zBerlin fliegt!- sind noch in
  der Vorwoche bei den Olympischen Spielen in London (Großbritannien) am Sta
 rt gewesen. Angeführt wird das Starterfeld von Olympiasiegerin Brittney Reese\,
  Will Claye (Silber im Dreisprung und Bronze im Weitsprung) sowie den deut
 schen Medaillengewinnern im Stabhochsprung Bjorn Otto (LAV Bayer Uerdingen
 /Dormagen) und Raphael Holzdeppe (LAZ Zweibrücken\; Ersatzstarter).\n\nDer Eint
 ritt zu 'Berlin fliegt!' ist frei\, es werden keine Eintrittskarten vergeb
 en. Der Einlass auf die Tribünen erfolgt ab 12:30 Uhr und ist so lange geoffnet
 \, bis alle Platze vergeben sind. Die Banden-Platze rund um die Wettkampfs
 tatte sind bereits vorher zuganglich.\n\nDie ARD übertragt im Rahmen der Sports
 chau live ab 13.15 Uhr.\n\nTextquelle und mehr Infos: Website\n\nViel Spas
 s wünscht Gratis-in-Berlin\n\nLink zum Tip: \nZu den Gratis-in-Berlin Angeboten
 : http://www.gratis-in-berlin.de\n
DTSTART;VALUE=DATE:20120819
DTEND;VALUE=DATE:20120820
SUMMARY:Leichtathetik-Wettbewerb 'Berlin fliegt 2012' mit Olympia-Siegern u
 nd Spitzensportlern am Brandenburger Tor
END:VEVENT
END:VCALENDAR
