BEGIN:VCALENDAR
VERSION:2.0
PRODID:-//Gratis-in-Berlin//NONSGML kigkonsult.se iCalcreator 2.14//
METHOD:PUBLISH
X-WR-CALNAME:Gratis-in-Berlin Tip Kalender
X-WR-CALDESC:Erhalte Gratis-in-Berlin Tips in deinem Kalender
BEGIN:VEVENT
UID:20260425T133401UTC-5544uF90UO@Gratis-in-Berlin
DTSTAMP:20260425T133401Z
DESCRIPTION:\n10 free tickets to the first ten brave girls!\n\nhere:\n\nhtt
 p://www.facebook.com/events/341791429236493/ \n\nViel Spass wünscht Gratis-in-B
 erlin\n\nLink zum Tip: https://www.gratis-in-berlin.de/gratis-in-berlin/it
 em/2007530-topless-french-party\nZu den Gratis-in-Berlin Angeboten: http:/
 /www.gratis-in-berlin.de\n
DTSTART;VALUE=DATE:20120915
DTEND;VALUE=DATE:20120917
SUMMARY:topless french party
END:VEVENT
END:VCALENDAR
