BEGIN:VCALENDAR
VERSION:2.0
PRODID:-//Gratis-in-Berlin//NONSGML kigkonsult.se iCalcreator 2.14//
METHOD:PUBLISH
X-WR-CALNAME:Gratis-in-Berlin Tip Kalender
X-WR-CALDESC:Erhalte Gratis-in-Berlin Tips in deinem Kalender
BEGIN:VEVENT
UID:20260425T134034UTC-2584zguFhV@Gratis-in-Berlin
DTSTAMP:20260425T134034Z
DESCRIPTION:Am 22. September wird das CityQuartier DomAquarée zur Bühne für die besten 
 Turmspringer der Welt. Auf dem Heiligegeistkirchplatz konnen Sie an diesem
  Tag fünf Auftritte der Gruppe erleben\, die aus 25 Metern Hohe in ein kleines 
 Wasserbecken springen und dies mit waghalsiger Akrobatik kombinieren. Darüber h
 inaus viele Attraktionen\, die der ganzen Familie Spaß machen. So sorgt der
  Shanty Chor Berlin für maritime Unterhaltung\, die kleineren Gaste konnen in A
 qua Ballen über das Wasser laufen oder sich schminken lassen.\n\n14:00 Uhr   Au
 ftritt der Turmspringer\n                     Maritime Unterhaltung mit \n
                      dem Shanty-Chor Berlin\n14:30 Uhr   Gewinnspiel auf d
 er Bühne\n                      von 105'5 Spreeradio\n15:00 Uhr   Maritime Unte
 rhaltung mit\n                     dem Shanty-Chor Berlin\n15:30 Uhr   Auf
 tritt der Turmspringer\n16:00 Uhr   Gewinnspiel auf der Bühne\n                
      von 105'5 Spreeradio\n18:00 Uhr   Auftritt der Turmspringer\n18:30 Uh
 r   Gewinnspiel auf der Bühne\n                     von 105'5 Spreeradio\n20:00
  Uhr   Auftritt der Turmspringer\n22:00 Uhr   Großes Finale: Turm-\n       
               springer mit Feuershow\n\nViel Spass wünscht Gratis-in-Berlin\n\n
 Link zum Tip: \nZu den Gratis-in-Berlin Angeboten: http://www.gratis-in-be
 rlin.de\n
DTSTART;VALUE=DATE:20120922
DTEND;VALUE=DATE:20120923
SUMMARY:Wasser- und Feuershow mit weltbesten Turmspringern
END:VEVENT
END:VCALENDAR
