BEGIN:VCALENDAR
VERSION:2.0
PRODID:-//Gratis-in-Berlin//NONSGML kigkonsult.se iCalcreator 2.14//
METHOD:PUBLISH
X-WR-CALNAME:Gratis-in-Berlin Tip Kalender
X-WR-CALDESC:Erhalte Gratis-in-Berlin Tips in deinem Kalender
BEGIN:VEVENT
UID:20260425T133903UTC-1356uF2oN1@Gratis-in-Berlin
DTSTAMP:20260425T133903Z
DESCRIPTION:Lesung: Ich fühle mich in der Ebene zu Hause\n\nGanz besonders freue
 n wir uns auf Oskar Manigk und Axel Wandtke am Donnerstag 13.12.2012 um 19
  Uhr\n\nGemeinsam mit dem Schauspieler Axel Wandtke (Volksbühne) stellt Oskar M
 anigk seinen zweiten Erzahlband vor: 'Der Steinigel und andere Geschichten
 '.\n\nWas er auf seinen Reisen zwischen Berlin und Usedom erlebt oder sich
  gedacht hat\, beschreibt Oskar Manigk mit einer unverwechselbaren Mischun
 g aus Ernst und Ironie. Er schildert ungewohnliche\, aber auch alltagliche
  Ereignisse aus seiner Kindheit in der Nazi- und Nachkriegszeit\, aus sein
 em Leben als junger Künstler im Sozialismus und von Begegnungen mit anderen Künstler
 n. Die Themen seiner Geschichten reichen bis in die Gegenwart. 1993 erhiel
 t er den Caspar-David-Friedrich-Kunstpreis und 2005 den Kulturpreis des La
 ndes Mecklenburg Vorpommern.\n\n»Ich fühle mich in der Ebene zu Hause. Wo sonnta
 gs der Sand über die Straße in die Garten weht. Und stande da plotzlich der Olym
 p vor mir\, wir hatten uns wenig zu sagen-¦« Oskar Manigk\n\nWeitere Informa
 tionen finden Sie auf unserer Homepage.\n\nViel Spass wünscht Gratis-in-Berlin
 \n\nLink zum Tip: \nZu den Gratis-in-Berlin Angeboten: http://www.gratis-i
 n-berlin.de\n
DTSTART;VALUE=DATE:20121213
DTEND;VALUE=DATE:20121214
SUMMARY:special guests in der Galerie Parterre: Oskar Manigk und Axel Wandt
 ke
END:VEVENT
END:VCALENDAR
