BEGIN:VCALENDAR
VERSION:2.0
PRODID:-//Gratis-in-Berlin//NONSGML kigkonsult.se iCalcreator 2.14//
METHOD:PUBLISH
X-WR-CALNAME:Gratis-in-Berlin Tip Kalender
X-WR-CALDESC:Erhalte Gratis-in-Berlin Tips in deinem Kalender
BEGIN:VEVENT
UID:20260425T151007UTC-4653nVUSvM@Gratis-in-Berlin
DTSTAMP:20260425T151007Z
DESCRIPTION:Habt Ihr Lust\, Round Dance kennen zu lernen? Round Dance ist T
 anzen nach Ansage\, Ihr lernt einzelne Figuren\, die dann zur Musik angesa
 gt werden. z.B. Cha Cha\, Walzer\, Twostepp\, Rumba u.a.  Am So.\, den 13.
 01. und So.\, den 20.01.2013 gibt es zwei kostenlose Schnupperabende jewei
 ls von 19.15 ? 21.45 Uhr  Es wird in Freizeitkleidung getanzt. Bitte bring
 t Wechselschuhe mit (glattes Parkett).  Alle sind herzlich willkommen!  An
  den Sonntagen danach schließt sich für die\, denen Round Dance gefallt\, ein Ei
 nführungskurs an\, spater konnt Ihr bei uns jeden Donnerstagabend mitmachen. (D
 iese Abende dann gegen Gebühr.)  Ort: Belziger Str. 6\, 10823 Berlin-Schoneberg
  (Eingang über den Parkplatz\, unter der Kita)  Genaue Informationen über uns  und a
 uch Kontaktmoglichkeit unter www.dreaming-pivots-berlin.de\n\nViel Spass w
 ünscht Gratis-in-Berlin\n\nLink zum Tip: https://www.gratis-in-berlin.de/gratis
 -in-berlin/item/2008389-round-dance-schnupperabende\nZu den Gratis-in-Berl
 in Angeboten: http://www.gratis-in-berlin.de\n
DTSTART;VALUE=DATE:20130113
DTEND;VALUE=DATE:20130114
SUMMARY:Round Dance Schnupperabende
END:VEVENT
END:VCALENDAR
